BEGIN:VCALENDAR
VERSION:2.0
PRODID:-//The Pennsylvania Municipal League - ECPv6.15.20//NONSGML v1.0//EN
CALSCALE:GREGORIAN
METHOD:PUBLISH
X-WR-CALNAME:The Pennsylvania Municipal League
X-ORIGINAL-URL:https://www.pml.org
X-WR-CALDESC:Events for The Pennsylvania Municipal League
REFRESH-INTERVAL;VALUE=DURATION:PT1H
X-Robots-Tag:noindex
X-PUBLISHED-TTL:PT1H
BEGIN:VTIMEZONE
TZID:America/New_York
BEGIN:DAYLIGHT
TZOFFSETFROM:-0500
TZOFFSETTO:-0400
TZNAME:EDT
DTSTART:20250309T070000
END:DAYLIGHT
BEGIN:STANDARD
TZOFFSETFROM:-0400
TZOFFSETTO:-0500
TZNAME:EST
DTSTART:20251102T060000
END:STANDARD
BEGIN:DAYLIGHT
TZOFFSETFROM:-0500
TZOFFSETTO:-0400
TZNAME:EDT
DTSTART:20260308T070000
END:DAYLIGHT
BEGIN:STANDARD
TZOFFSETFROM:-0400
TZOFFSETTO:-0500
TZNAME:EST
DTSTART:20261101T060000
END:STANDARD
BEGIN:DAYLIGHT
TZOFFSETFROM:-0500
TZOFFSETTO:-0400
TZNAME:EDT
DTSTART:20270314T070000
END:DAYLIGHT
BEGIN:STANDARD
TZOFFSETFROM:-0400
TZOFFSETTO:-0500
TZNAME:EST
DTSTART:20271107T060000
END:STANDARD
BEGIN:DAYLIGHT
TZOFFSETFROM:-0500
TZOFFSETTO:-0400
TZNAME:EDT
DTSTART:20280312T070000
END:DAYLIGHT
BEGIN:STANDARD
TZOFFSETFROM:-0400
TZOFFSETTO:-0500
TZNAME:EST
DTSTART:20281105T060000
END:STANDARD
END:VTIMEZONE
BEGIN:VEVENT
DTSTART;TZID=America/New_York:20260602T090000
DTEND;TZID=America/New_York:20260602T120000
DTSTAMP:20260421T121728
CREATED:20251117T145236Z
LAST-MODIFIED:20260421T153755Z
UID:15163-1780390800-1780401600@www.pml.org
SUMMARY:Advanced Budgeting and Cost Management
DESCRIPTION:TRACK:  FINANCIALLength:  3 hoursPrice:  Member Registration: $89 per registrant | Non Member Registration: $149 per registrantSend a message to lla@pml.org for group rates of 10 or more registrantsDate:  June 2\, 2026Time:  9 a.m. to Noon \n\n\n\n\nREGISTER NOW\n\n\n\n \n\n\n\nParticipants must attend the entire 3-hour session to earn a course certificate. \n\n\n\nCourse Description \n\n\n\nEquip yourself with practical strategies to strengthen financial management and improve organizational trust. Participants will learn how to identify opportunities to reduce personnel‑related expenses\, enhance capital budgeting practices\, and implement modern budgeting techniques within operational departments. \n\n\n\nThe course also focuses on effective engagement with elected officials\, emphasizing communication and transparency to build confidence in financial decision‑making. Designed for managers\, supervisors\, and elected leaders involved in budgeting and fiscal oversight\, this course provides actionable tools to support sustainable\, accountable\, and well‑managed local government operations. \n\n\n\nIn many respects financial operations are the backbone for a high performing municipal government. This course will help in maintaining a financial system to gain trust and integrity in the overall operations of your local government. \n\n\n\nKey Topics \n\n\n\n\nPersonnel Cost Analysis and Control\n\n\n\nCapital Budgeting Improvement Strategies\n\n\n\nModern Budgeting Techniques for Operations\n\n\n\nEngage local government officials to build trust and transparency\n\n\n\n\nWho Should Attend \n\n\n\n\nFinance directors\n\n\n\nMunicipal managers\n\n\n\nElected officials\n\n\n\nNewly elected officials\n\n\n\nTreasurers\n\n\n\n\nBy the end of this course\, participants can expect to be able to: \n\n\n\n\nIdentify opportunities to reduce personnel‑related expenses\n\n\n\nApply strategies to improve your capital budgeting program\n\n\n\nImplement new budgeting techniques in operational departments\n\n\n\nEngage local government officials to build financial trust\n\n\n\n\nBy registering for this course\, you are authorizing the League Learning Academy to forward information to you at your email address related to educational offerings. \n\n\n\nOnce your registration is completed\, you should receive a confirmation email from The PA Municipal League. Please review when received. If you do not receive an email\, check your spam folder. \n\n\n\nCANCELLATION & NO-SHOW POLICY: \n\n\n\nCancellation must be received in writing to lla@pml.org within 72 hours prior to a class to be considered for a full refund. \n\n\n\nIf cancellation is received after the 72-hour window\, a processing fee will be applied for a portion of the refund. \n\n\n\nThose who do not cancel or attend forfeit the full registration fee.
URL:https://www.pml.org/event/advanced-fiscal-strategies-and-controls/
LOCATION:Pennsylvania
CATEGORIES:League Learning Academy,League Training Events
END:VEVENT
BEGIN:VEVENT
DTSTART;TZID=America/New_York:20261007T000000
DTEND;TZID=America/New_York:20261010T235959
DTSTAMP:20260421T121728
CREATED:20251112T201451Z
LAST-MODIFIED:20260224T163527Z
UID:15133-1791331200-1791676799@www.pml.org
SUMMARY:2026 Municipal Leadership Summit
DESCRIPTION:You’re invited to join us from Wednesday\, October 7 – Saturday\, October 10\, 2026\, at the HERSHEY LODGE AND CONVENTION CENTER for the Municipal Leadership Summit! \n\n\n\nThis event is an amazing training opportunity that brings together officials from the Pennsylvania Municipal League\, the Pennsylvania State Association of Township Commissioners\, and the Pennsylvania Career Fire Chiefs Association for an enriching experience of collaboration\, education\, and celebration. \n\n\n\nWhy attend?\n\n\n\nThe League\, the Pennsylvania State Association of Township Commissioners (PSATC) and the Pennsylvania Career Fire Chiefs Association are heading to Hershey for the 2026 Municipal Leadership Summit. Plan to join us to build your leadership skills\, learn the latest in topics important to local government by participating in programming of a professional value\, share best practices for serving your community\, and learn how others are moving their communities forward. Additional information on session topics will be available shortly. \n\n\n\nThings to See and Do in Hershey!\n\n\n\nHotel Reservations\n\n\n\nOvernight reservations are available at The Hershey Lodge and Convention Center for $199 per night + 11% taxes.  Credit cards are charged a one night’s advance deposit including tax at the time of booking.  The Lodge is accepting ONE reservation per person. Rooms are on a first-come\, first-served basis. Please reserve your room prior to Monday\, September 14\, 2026. After this date\, room prices may increase and/or rooms may not be available\, or the group block may be sold-out. If you are having issues reserving your room reservation online\, or need assistance with changing an existing room reservation\, please contact the Reservation Office at (855) 729-3108. \n\n\n\nCancellations must be made 72 hours prior to arrival date. \n\n\n\nBook Now!\n\n\n\n\n\n\n\nQuestions:  Direct questions to Mary Costik\, CMP\, at mcostik@pml.org.
URL:https://www.pml.org/event/2026-municipal-leadership-summit/
LOCATION:Hershey Lodge and Convention Center\, 325 University Drive\, Hershey\, Pennsylvania\, 17033
CATEGORIES:League Summit,League Training Events
END:VEVENT
BEGIN:VEVENT
DTSTART;TZID=America/New_York:20270303T000000
DTEND;TZID=America/New_York:20270305T235959
DTSTAMP:20260421T121728
CREATED:20260326T140231Z
LAST-MODIFIED:20260326T140232Z
UID:15724-1804032000-1804291199@www.pml.org
SUMMARY:2027 Annual PELRAS Conference
DESCRIPTION:SAVE THE DATE!\n\n\n\nNext year\, the 2027 Annual PELRAS Conference will return to Hershey on March 3-5\, 2027. \n\n\n\nPELRAS members will have the first opportunity to book overnight sleeping rooms for next year’s conference beginning in October 2026. \n\n\n\n\n\n\n\n \n\n\n\n\n\nThings to see and do in Hershey!\n\n\n\nView Now!
URL:https://www.pml.org/event/2027-annual-pelras-conference/
LOCATION:Hershey Lodge and Convention Center\, 325 University Drive\, Hershey\, Pennsylvania\, 17033
CATEGORIES:League Training Events
END:VEVENT
END:VCALENDAR