BEGIN:VCALENDAR
VERSION:2.0
PRODID:-//The Pennsylvania Municipal League - ECPv6.15.20//NONSGML v1.0//EN
CALSCALE:GREGORIAN
METHOD:PUBLISH
X-ORIGINAL-URL:https://www.pml.org
X-WR-CALDESC:Events for The Pennsylvania Municipal League
REFRESH-INTERVAL;VALUE=DURATION:PT1H
X-Robots-Tag:noindex
X-PUBLISHED-TTL:PT1H
BEGIN:VTIMEZONE
TZID:America/New_York
BEGIN:DAYLIGHT
TZOFFSETFROM:-0500
TZOFFSETTO:-0400
TZNAME:EDT
DTSTART:20240310T070000
END:DAYLIGHT
BEGIN:STANDARD
TZOFFSETFROM:-0400
TZOFFSETTO:-0500
TZNAME:EST
DTSTART:20241103T060000
END:STANDARD
BEGIN:DAYLIGHT
TZOFFSETFROM:-0500
TZOFFSETTO:-0400
TZNAME:EDT
DTSTART:20250309T070000
END:DAYLIGHT
BEGIN:STANDARD
TZOFFSETFROM:-0400
TZOFFSETTO:-0500
TZNAME:EST
DTSTART:20251102T060000
END:STANDARD
BEGIN:DAYLIGHT
TZOFFSETFROM:-0500
TZOFFSETTO:-0400
TZNAME:EDT
DTSTART:20260308T070000
END:DAYLIGHT
BEGIN:STANDARD
TZOFFSETFROM:-0400
TZOFFSETTO:-0500
TZNAME:EST
DTSTART:20261101T060000
END:STANDARD
END:VTIMEZONE
BEGIN:VEVENT
DTSTART;TZID=America/New_York:20251014T140000
DTEND;TZID=America/New_York:20251014T150000
DTSTAMP:20260421T064650
CREATED:20251008T141103Z
LAST-MODIFIED:20251008T145647Z
UID:14998-1760450400-1760454000@www.pml.org
SUMMARY:Responding to Political Violence Webinar
DESCRIPTION:Staying Cool as the Temperature Rises\n\n\n\n\n\n\n\n\n\n\n\n\n\nCLICK HERE TO REGISTER
URL:https://www.pml.org/event/responding-to-political-violence-webinar/
CATEGORIES:League Training Events
ATTACH;FMTTYPE=image/jpeg:https://www.pml.org/wp-content/uploads/2025/10/Responding-to-Political-Violence.jpg
END:VEVENT
END:VCALENDAR