BEGIN:VCALENDAR
VERSION:2.0
PRODID:-//The Pennsylvania Municipal League - ECPv6.15.20//NONSGML v1.0//EN
CALSCALE:GREGORIAN
METHOD:PUBLISH
X-WR-CALNAME:The Pennsylvania Municipal League
X-ORIGINAL-URL:https://www.pml.org
X-WR-CALDESC:Events for The Pennsylvania Municipal League
REFRESH-INTERVAL;VALUE=DURATION:PT1H
X-Robots-Tag:noindex
X-PUBLISHED-TTL:PT1H
BEGIN:VTIMEZONE
TZID:America/New_York
BEGIN:DAYLIGHT
TZOFFSETFROM:-0500
TZOFFSETTO:-0400
TZNAME:EDT
DTSTART:20250309T070000
END:DAYLIGHT
BEGIN:STANDARD
TZOFFSETFROM:-0400
TZOFFSETTO:-0500
TZNAME:EST
DTSTART:20251102T060000
END:STANDARD
BEGIN:DAYLIGHT
TZOFFSETFROM:-0500
TZOFFSETTO:-0400
TZNAME:EDT
DTSTART:20260308T070000
END:DAYLIGHT
BEGIN:STANDARD
TZOFFSETFROM:-0400
TZOFFSETTO:-0500
TZNAME:EST
DTSTART:20261101T060000
END:STANDARD
BEGIN:DAYLIGHT
TZOFFSETFROM:-0500
TZOFFSETTO:-0400
TZNAME:EDT
DTSTART:20270314T070000
END:DAYLIGHT
BEGIN:STANDARD
TZOFFSETFROM:-0400
TZOFFSETTO:-0500
TZNAME:EST
DTSTART:20271107T060000
END:STANDARD
END:VTIMEZONE
BEGIN:VEVENT
DTSTART;TZID=America/New_York:20260401T090000
DTEND;TZID=America/New_York:20260401T120000
DTSTAMP:20260421T145008
CREATED:20251117T133624Z
LAST-MODIFIED:20260318T150952Z
UID:15155-1775034000-1775044800@www.pml.org
SUMMARY:Foundations of Fiscal Management – Budget Preparation
DESCRIPTION:TRACK:  FINANCIALLength:  3 hoursPrice:  Member Registration: $89 per registrant | Non Member Registration: $149 per registrantSend a message to lla@pml.org for group rates of 10 or more registrantsDate:   April 1Time:  9 a.m. to Noon \n\n\n\n\nREGISTER NOW\n\n\n\n \n\n\n\nParticipants must attend the entire 3-hour session to earn a course certificate. \n\n\n\nBuild a Strong Financial Foundation for Your Municipality \n\n\n\nThis practical\, engaging course provides a comprehensive guide to developing a municipal budget. Designed for newly elected officials\, municipal staff\, and anyone involved in local government finance\, the session demystifies the budgeting process and equips participants with the knowledge needed to make responsible financial decisions. \n\n\n\nThrough interactive discussion\, real-world examples\, and hands-on activities\, participants will explore the core principles of fiscal management and how they directly inform the creation of a sound municipal budget. The course also covers the legal and statutory framework that governs financial oversight\, the roles and responsibilities of municipal officials\, and the revenue sources and financial challenges unique to local government. Whether you are new to municipal budgeting or looking to sharpen your skills\, this session provides the tools\, terminology\, and guidance needed to support long-term fiscal health in your community. \n\n\n\nKey Topics Include: \n\n\n\n\nWhat fiscal management means for local governments\n\n\n\nLegal and statutory requirements for municipal financial oversight\n\n\n\nThe step-by-step budget development process\n\n\n\nPrimary revenue sources and common financial pitfalls\n\n\n\nStrategies for cost savings and revenue enhancement\n\n\n\n\nWho Should Attend: \n\n\n\nLocal government officials\, finance staff\, newly elected officials\, municipal managers\, and anyone involved in budget planning or fiscal oversight. \n\n\n\nBy the end of this course\, participants can expect to be able to: \n\n\n\n\nDefine core fiscal management concepts and responsibilities\n\n\n\nIdentify the legal requirements for managing municipal finances\n\n\n\nDescribe the major components and phases of a municipal budget\n\n\n\nIdentify primary municipal revenue sources\n\n\n\nRecognize opportunities for cost savings and revenue improvement\n\n\n\nApply fundamental municipal budgeting principles\n\n\n\n\nBy registering for this course\, you are authorizing the League Learning Academy to forward information to you at your email address related to educational offerings. \n\n\n\nOnce your registration is completed\, you should receive a confirmation email from The PA Municipal League. Please review when received. If you do not receive an email\, it may be in your spam folder. \n\n\n\nCANCELLATION & NO-SHOW POLICY:Cancellation must be received in writing to lla@pml.org within 72 hours prior to a class to be considered for a full refund. \n\n\n\nIf cancellation is received after the 72-hour window\, a processing fee will be applied for a portion of the refund. \n\n\n\nThose who do not cancel or attend forfeit the full registration fee.
URL:https://www.pml.org/event/foundations-of-fiscal-management/
CATEGORIES:League Learning Academy,League Training Events
END:VEVENT
END:VCALENDAR