BEGIN:VCALENDAR
VERSION:2.0
PRODID:-//The Pennsylvania Municipal League - ECPv6.15.20//NONSGML v1.0//EN
CALSCALE:GREGORIAN
METHOD:PUBLISH
X-ORIGINAL-URL:https://www.pml.org
X-WR-CALDESC:Events for The Pennsylvania Municipal League
REFRESH-INTERVAL;VALUE=DURATION:PT1H
X-Robots-Tag:noindex
X-PUBLISHED-TTL:PT1H
BEGIN:VTIMEZONE
TZID:America/New_York
BEGIN:DAYLIGHT
TZOFFSETFROM:-0500
TZOFFSETTO:-0400
TZNAME:EDT
DTSTART:20250309T070000
END:DAYLIGHT
BEGIN:STANDARD
TZOFFSETFROM:-0400
TZOFFSETTO:-0500
TZNAME:EST
DTSTART:20251102T060000
END:STANDARD
BEGIN:DAYLIGHT
TZOFFSETFROM:-0500
TZOFFSETTO:-0400
TZNAME:EDT
DTSTART:20260308T070000
END:DAYLIGHT
BEGIN:STANDARD
TZOFFSETFROM:-0400
TZOFFSETTO:-0500
TZNAME:EST
DTSTART:20261101T060000
END:STANDARD
BEGIN:DAYLIGHT
TZOFFSETFROM:-0500
TZOFFSETTO:-0400
TZNAME:EDT
DTSTART:20270314T070000
END:DAYLIGHT
BEGIN:STANDARD
TZOFFSETFROM:-0400
TZOFFSETTO:-0500
TZNAME:EST
DTSTART:20271107T060000
END:STANDARD
END:VTIMEZONE
BEGIN:VEVENT
DTSTART;TZID=America/New_York:20260421T000000
DTEND;TZID=America/New_York:20260422T235959
DTSTAMP:20260419T222124
CREATED:20251117T144558Z
LAST-MODIFIED:20260113T194317Z
UID:15161-1776729600-1776902399@www.pml.org
SUMMARY:Public Procurement & Bidding Essentials for Municipal Officials
DESCRIPTION:TRACK:  ADMINISTRATIVELength:  6 hoursPrice:  Member Registration: $139 per registrant | Non Member Registration: $199 per registrantSend a message to lla@pml.org for group rates of 10 or more registrantsDate:    April 21 & 22\, 2026Time:  9 a.m. to Noon both days \n\n\n\n\nREGISTER NOW\n\n\n\n \n\n\n\nParticipants must attend both 3-hour sessions to earn a course certificate. \n\n\n\nPLEASE NOTE: This course is interactive to give you the best learning experience possible.  It will be conducted via Zoom.  You will need to be able to: Raise your hand\, mute/unmute\, and use chat. \n\n\n\nCourse Description \n\n\n\nThis course provides a practical and comprehensive introduction to public procurement and bidding processes within local government operations. Designed for municipal staff and procurement professionals\, it covers the principles\, procedures\, and legal foundations essential to conducting fair\, efficient\, and compliant procurement activities. \n\n\n\nParticipants will explore key topics such as drafting bid specifications\, conducting competitive solicitations\, evaluating bids\, and awarding contracts. Emphasis is placed on transparency\, ethics\, and regulatory compliance\, with insights into navigating common challenges and applying best practices in public purchasing. \n\n\n\nCase studies and real-world examples will be used to illustrate common challenges and strategies for ensuring compliance and transparency. \n\n\n\nKey Topics: \n\n\n\n\nKey Statutes and Regulations\n\n\n\nProcurement Cycle\n\n\n\nCompetitive bidding requirements\n\n\n\nBid specifications\n\n\n\nBid evaluation and contract awards\n\n\n\nEthical considerations in municipal purchasing\n\n\n\n\nWho should attend: \n\n\n\n\nMunicipal Secretaries\n\n\n\nTreasurers\n\n\n\nClerks\n\n\n\nAdministrators\n\n\n\nAuditors\n\n\n\nElected officials and Newly elected officials\n\n\n\n\nAt the end of the course\, you can expect to be able to: \n\n\n\n\nList the key statues and regulations for municipal bidding and purchasing\n\n\n\nDescribe the steps in the procurement cycle\n\n\n\nDraft clear and effective bid specifications\n\n\n\nEvaluate vendor submissions using objective criteria\n\n\n\nExecute contract awards in accordance with local laws and guidelines\n\n\n\nPromote integrity and transparency throughout the procurement process\n\n\n\n\nBy registering for this course\, you are authorizing the League Learning Academy to forward information to you at your email address related to educational offerings. \n\n\n\nOnce your registration is completed\, you should receive a confirmation email from The PA Municipal League. Please review when received. If you do not receive an email\, it may be in your spam folder. \n\n\n\nCANCELLATION & NO-SHOW POLICY:Cancellation must be received in writing to lla@pml.org within 72 hours prior to a class to be considered for a full refund. \n\n\n\nIf cancellation is received after the 72-hour window\, a processing fee will be applied for a portion of the refund. \n\n\n\nThose who do not cancel or attend forfeit the full registration fee.
URL:https://www.pml.org/event/public-procurement-bidding-essentials-for-municipal-officials-2/
CATEGORIES:League Learning Academy,League Training Events
END:VEVENT
BEGIN:VEVENT
DTSTART;TZID=America/New_York:20260428T113000
DTEND;TZID=America/New_York:20260428T133000
DTSTAMP:20260419T222124
CREATED:20260129T162142Z
LAST-MODIFIED:20260204T133919Z
UID:15416-1777375800-1777383000@www.pml.org
SUMMARY:Northwest District Meeting
DESCRIPTION:Please join us for your District Meeting! Connect with our team\, mingle with fellow members\, and enjoy great food. Don’t miss this opportunity to meet\, network\, and feel appreciated! \n\n\n\nTo check what district your municipality is in click here! We hope to see you at one of the meetings below. \n\n\n\nThe agenda below applies to all meetings: \n\n\n\n\n\n11:30am – Registration Opens \n\n\n\n11:30am – 12:00pm – Coffee & Conversation \n\n\n\n12:00pm – Lunch \n\n\n\n12:30pm – Intro \n\n\n\n\n\n12:35pm – Legislative Update \n\n\n\n1:00pm – League Update \n\n\n\n1:20pm – District Meeting Business \n\n\n\n1:30pm – Adjourn \n\n\n\n\n\nTo register for the meetings\, please scroll down and click the purple REGISTER ONLINE button and choose the meeting that corresponds with your district under the session tab. If you are having an issue completing the registration process\, please contact Stevie Cona at scona@pml.org or 717-236-9469 x*256. \n\n\n\nREGISTER HERE
URL:https://www.pml.org/event/northwest-district-meeting/
LOCATION:City of Warren | Conewango Club\, 201 Market St\, Warren\, Pennsylvania\, 16365\, United States
CATEGORIES:District Meetings,League Training Events
END:VEVENT
BEGIN:VEVENT
DTSTART;TZID=America/New_York:20260429T113000
DTEND;TZID=America/New_York:20260429T133000
DTSTAMP:20260419T222124
CREATED:20260129T162937Z
LAST-MODIFIED:20260210T204255Z
UID:15418-1777462200-1777469400@www.pml.org
SUMMARY:Southwest District Meeting
DESCRIPTION:Please join us for your District Meeting! Connect with our team\, mingle with fellow members\, and enjoy great food. Don’t miss this opportunity to meet\, network\, and feel appreciated! \n\n\n\nTo check what district your municipality is in click here! We hope to see you at one of the meetings below. \n\n\n\nThe agenda below applies to all meetings: \n\n\n\n\n\n11:30am – Registration Opens \n\n\n\n11:30am – 12:00pm – Coffee & Conversation \n\n\n\n12:00pm – Lunch \n\n\n\n12:30pm – Intro \n\n\n\n\n\n12:35pm – Legislative Update \n\n\n\n1:00pm – League Update \n\n\n\n1:20pm – District Meeting Business \n\n\n\n1:30pm – Adjourn \n\n\n\n\n\nTo register for the meetings\, please scroll down and click the purple REGISTER ONLINE button and choose the meeting that corresponds with your district under the session tab. If you are having an issue completing the registration process\, please contact Stevie Cona at scona@pml.org or 717-236-9469 x*256. \n\n\n\nREGISTER HERE
URL:https://www.pml.org/event/southwest-district-meeting/
LOCATION:South Fayette Township | Municipal Center\, 100 Township Dr\, South Fayette\, Pennsylvania\, 15017\, United States
CATEGORIES:District Meetings,League Training Events
END:VEVENT
END:VCALENDAR